BEGIN:VCALENDAR
X-WR-TIMEZONE:Europe/Berlin
X-WR-CALNAME:rbb-Kalender
VERSION:2.0
METHOD:PUBLISH
CALSCALE:GREGORIAN
PRODID:rbb-CMS DAY
BEGIN:VEVENT
CLASS:PUBLIC
URL:http://www.rbb-online.de/content/rbb/rbb/stilbruch/archiv/20140116_2215/max-frisch-aus-dem-berliner-journal.html
DTEND:20140116T224500
DTSTART:20140116T221500
UID:/content/rbb/rbb/stilbruch/archiv/20140116_2215/max-frisch-aus-dem-berliner-journal
DTSTAMP:20140406T101641
DESCRIPTION:Als er sie geschrieben hatte, legte er sie erst mal in den "Deep Freezer", in die Tiefkühltruhe, wie Max Frisch sagte. Denn seine Tagebücher aus der Berliner Zeit sollten erst 20 Jahre nach seinem Tod veröffentlicht werden. Nun ist es so weit: Dieser literarische Schatz aus dem Nachlass des Schweizer Schriftstellers kommt auf den deutschen Buchmarkt.\n
SUMMARY:Max Frisch: "Aus dem Berliner Journal"
END:VEVENT
END:VCALENDAR
