BEGIN:VCALENDAR
X-WR-TIMEZONE:Europe/Berlin
X-WR-CALNAME:rbb-Kalender
VERSION:2.0
METHOD:PUBLISH
CALSCALE:GREGORIAN
PRODID:rbb-CMS DAY
BEGIN:VEVENT
CLASS:PUBLIC
URL:http://www.rbb-online.de/content/rbb/rbb/stilbruch/archiv/20140116_2215/regisseur-benedict-andrews-komische-oper-berlin.html
DTEND:20140116T224500
DTSTART:20140116T221500
UID:/content/rbb/rbb/stilbruch/archiv/20140116_2215/regisseur-benedict-andrews-komische-oper-berlin
DTSTAMP:20140406T101549
DESCRIPTION:In der Komischen Oper in Berlin steht eine Woche lang der russische Komponist Sergej Prokofjew im Mittelpunkt. Nach über 40 Jahren ist seine Oper "Der feurige Engel" wieder in Berlin zu erleben. Regie führt der Australier Benedict Andrews, der ansonsten mit Schauspielerinnen wie Cate Blanchett oder Isabel Huppert zu arbeiten pflegt.\n
SUMMARY:Benedict Andrews
END:VEVENT
END:VCALENDAR
