BEGIN:VCALENDAR
X-WR-TIMEZONE:Europe/Berlin
X-WR-CALNAME:rbb-Kalender
VERSION:2.0
METHOD:PUBLISH
CALSCALE:GREGORIAN
PRODID:rbb-CMS DAY
BEGIN:VEVENT
CLASS:PUBLIC
URL:http://www.rbb-online.de/content/rbb/rbb/stilbruch/archiv/20140116_2215/welfenschatz-stiftung-preussischer-kulturbesitz.html
DTEND:20140116T224500
DTSTART:20140116T221500
UID:/content/rbb/rbb/stilbruch/archiv/20140116_2215/welfenschatz-stiftung-preussischer-kulturbesitz
DTSTAMP:20140405T083335
DESCRIPTION:Der Welfenschatz ist der größte deutsche Kirchenschatz im Besitz einer öffentlichen Kunstsammlung. Seit Jahren wird darüber gestritten, wem dieser Schatz gehört. Jüdische Kunsthändler haben ihn 1935 an die Nazis verkauft.(Das Video zum Beitrag liegt aus lizenzrechtlichen Gründen nicht vor.)\n\n\n
SUMMARY:Der Welfenschatz
END:VEVENT
END:VCALENDAR
