BEGIN:VCALENDAR
X-WR-TIMEZONE:Europe/Berlin
X-WR-CALNAME:rbb-Kalender
VERSION:2.0
METHOD:PUBLISH
CALSCALE:GREGORIAN
PRODID:rbb-CMS DAY
BEGIN:VEVENT
CLASS:PUBLIC
URL:http://www.rbb-online.de/content/rbb/rbb/stilbruch/archiv/20140130_2215/der-weisse-ovambo.html
DTEND:20140130T224500
DTSTART:20140130T221500
UID:/content/rbb/rbb/stilbruch/archiv/20140130_2215/der-weisse-ovambo
DTSTAMP:20140407T064048
DESCRIPTION:Eine beeindruckende Lebensgeschichte. Der Berliner Halbjude Peter Pauly geht von Deutschland nach Ostafrika und wird Oberhaupt eines Ovambo-Klans in Namibia. Er lebt heute im Alter von 96 Jahren in Windhoek. Dort hat ihn der in Berlin lehrende Historiker Nils Ole Oermann während der Recherche für seine Doktorarbeit kennengelernt - und Peter Pauly hat ihm seine Geschichte erzählt.\n
SUMMARY:Nils Ole Oermann: "Der weiße Ovambo"
END:VEVENT
END:VCALENDAR
