BEGIN:VCALENDAR
X-WR-TIMEZONE:Europe/Berlin
X-WR-CALNAME:rbb-Kalender
VERSION:2.0
METHOD:PUBLISH
CALSCALE:GREGORIAN
PRODID:rbb-CMS DAY
BEGIN:VEVENT
CLASS:PUBLIC
URL:http://www.rbb-online.de/content/rbb/rbb/stilbruch/archiv/20140130_2215/juergen-tarrach.html
DTEND:20140130T224500
DTSTART:20140130T221500
UID:/content/rbb/rbb/stilbruch/archiv/20140130_2215/juergen-tarrach
DTSTAMP:20140407T064000
DESCRIPTION:Jürgen Tarrach ist ein Schauspieler, dessen große Leidenschaft das Kochen ist. Er hat sogar mal ein Kochbuch mit dem Titel "Richtig fressen. Rezepte zum Sattwerden" veröffentlicht. Er ist ein Genießer - wohl deshalb verehrt er auch die Franzosen und ihre großen Chansonniers. In der Bar jeder Vernunft singt er nun französische Klassiker.\n
SUMMARY:Jürgen Tarrach
END:VEVENT
END:VCALENDAR
