BEGIN:VCALENDAR
X-WR-TIMEZONE:Europe/Berlin
X-WR-CALNAME:rbb-Kalender
VERSION:2.0
METHOD:PUBLISH
CALSCALE:GREGORIAN
PRODID:rbb-CMS DAY
BEGIN:VEVENT
CLASS:PUBLIC
URL:http://www.rbb-online.de/content/rbb/rbb/stilbruch/archiv/20140213_2215/berlinale-2014-filme-und-nationalsozialismus.html
DTEND:20140213T224500
DTSTART:20140213T221500
UID:/content/rbb/rbb/stilbruch/archiv/20140213_2215/berlinale-2014-filme-und-nationalsozialismus
DTSTAMP:20140405T031829
DESCRIPTION:George Clooney dominiert mit seinem Film "Monuments Men" die Plakatflächen am Potsdamer Platz, Volker Schlöndorff erzählt in "Diplomatie" von einem Nationalsozialisten, der Paris vor der Zerstörung rettet und im Dokumentarfilm "Der Anständige" öffnen wiederentdeckte Briefe Heinrich Himmlers einen Blick in sein Privatleben. Was macht den Nationalsozialismus für die Filmindustrie so attraktiv? Und geht es wirklich darum, die Verbrechen von damals zu verstehen?\n
SUMMARY:Film und Nationalsozialismus auf der Berlinale
END:VEVENT
END:VCALENDAR
