BEGIN:VCALENDAR
X-WR-TIMEZONE:Europe/Berlin
X-WR-CALNAME:rbb-Kalender
VERSION:2.0
METHOD:PUBLISH
CALSCALE:GREGORIAN
PRODID:rbb-CMS DAY
BEGIN:VEVENT
CLASS:PUBLIC
URL:http://www.rbb-online.de/content/rbb/rbb/stilbruch/archiv/20140213_2215/goeran-gnaudschun-alexanderplatz-berlin-ausstellung.html
DTEND:20140213T224500
DTSTART:20140213T221500
UID:/content/rbb/rbb/stilbruch/archiv/20140213_2215/goeran-gnaudschun-alexanderplatz-berlin-ausstellung
DTSTAMP:20140405T032219
DESCRIPTION:Der Blick ist aufrecht und klar in die Kamera gerichtet. Würdevoll - so hat der Fotograf Göran Gnaudschun die jungen Obdachlosen vom Alexanderplatz ins Bild gesetzt. Denn die Würde macht für ihn das Menschsein aus, sagt er. Jetzt veröffentlicht der Potsdamer seine Bilder in einem Band mit dem Titel "Berlin Alexanderplatz" - und das Haus am Lützowplatz widmet ihm eine Ausstellung.\n\n\n
SUMMARY:Göran Gnaudschun: "Alexanderplatz"
END:VEVENT
END:VCALENDAR
