BEGIN:VCALENDAR
X-WR-TIMEZONE:Europe/Berlin
X-WR-CALNAME:rbb-Kalender
VERSION:2.0
METHOD:PUBLISH
CALSCALE:GREGORIAN
PRODID:rbb-CMS DAY
BEGIN:VEVENT
LOCATION:Das Kulturmagazin
CLASS:PUBLIC
URL:http://www.rbb-online.de/content/rbb/rbb/stilbruch/archiv/20140220_2215.html
DTEND:20140220T224500
DTSTART:20140220T221500
UID:/content/rbb/rbb/stilbruch/archiv/20140220_2215
DTSTAMP:20140405T031636
DESCRIPTION:+++ Marianne Birthler: Halbes Land. Ganzes Land. +++ Katja Petrowskaja zur Ukraine +++ Lenn Kudrjawizki +++ Katharina Mouratidi: Bescheidene Helden +++ Kulturtipps mit Ernest Allan Hausmann +++ Der Tenor Klaus Florian Vogt +++\n\n\n
SUMMARY:Stilbruch 20.02.2014 22:15
END:VEVENT
END:VCALENDAR
