BEGIN:VCALENDAR
X-WR-TIMEZONE:Europe/Berlin
X-WR-CALNAME:rbb-Kalender
VERSION:2.0
METHOD:PUBLISH
CALSCALE:GREGORIAN
PRODID:rbb-CMS DAY
BEGIN:VEVENT
CLASS:PUBLIC
URL:http://www.rbb-online.de/content/rbb/rbb/stilbruch/archiv/20140220_2215/klausflorianvogt_faustsverdammnis.html
DTEND:20140220T224500
DTSTART:20140220T221500
UID:/content/rbb/rbb/stilbruch/archiv/20140220_2215/klausflorianvogt_faustsverdammnis
DTSTAMP:20140405T032111
DESCRIPTION:In Bayreuth ist das Publikum regelmäßig aus dem Häuschen, wenn Klaus Florian Vogt die Wagnerhelden singt. Jetzt kann man den Tenor an der Deutschen Oper erleben - wo er mal nicht Wagner singt.\n\n\n
SUMMARY:Der Tenor Klaus Florian Vogt
END:VEVENT
END:VCALENDAR
