BEGIN:VCALENDAR
X-WR-TIMEZONE:Europe/Berlin
X-WR-CALNAME:rbb-Kalender
VERSION:2.0
METHOD:PUBLISH
CALSCALE:GREGORIAN
PRODID:rbb-CMS DAY
BEGIN:VEVENT
CLASS:PUBLIC
URL:http://www.rbb-online.de/content/rbb/rbb/stilbruch/archiv/20140220_2215/mouratidi_bescheidenehelden.html
DTEND:20140220T224500
DTSTART:20140220T221500
UID:/content/rbb/rbb/stilbruch/archiv/20140220_2215/mouratidi_bescheidenehelden
DTSTAMP:20140405T032240
DESCRIPTION:Seit 1980 ehrt der "Alternative Nobelpreis" Menschen und Organisationen, die herausragende Lösungen für die wichtigsten Probleme der Gegenwart entwickelt haben. Diese Menschen hat die Berliner Fotografin Katharina Mouratidi für ihre Serie "Bescheidene Helden" porträtiert. Die Bilder sind ab Februar im Willy-Brandt-Haus in Berlin zu sehen.\n\n\n
SUMMARY:Katharina Mouratidi: "Bescheidene Helden"
END:VEVENT
END:VCALENDAR
