BEGIN:VCALENDAR
X-WR-TIMEZONE:Europe/Berlin
X-WR-CALNAME:rbb-Kalender
VERSION:2.0
METHOD:PUBLISH
CALSCALE:GREGORIAN
PRODID:rbb-CMS DAY
BEGIN:VEVENT
CLASS:PUBLIC
URL:http://www.rbb-online.de/content/rbb/rbb/stilbruch/archiv/20140306_2215/band-fenster.html
DTEND:20140306T224500
DTSTART:20140306T221500
UID:/content/rbb/rbb/stilbruch/archiv/20140306_2215/band-fenster
DTSTAMP:20140405T032639
DESCRIPTION:Mit der Band "Fenster" läutet Stilbruch musikalisch den Frühling ein. Die Bandmitglieder - ein paar junge Musiker aus allen Herren Ländern - trafen sich in Berlin und machen jetzt gemeinsam ziemlich gute Musik. Eine Geschichte, wie sie derzeit am häufigsten wohl in Berlin passiert.  \n
SUMMARY:Band "Fenster"
END:VEVENT
END:VCALENDAR
