BEGIN:VCALENDAR
X-WR-TIMEZONE:Europe/Berlin
X-WR-CALNAME:rbb-Kalender
VERSION:2.0
METHOD:PUBLISH
CALSCALE:GREGORIAN
PRODID:rbb-CMS DAY
BEGIN:VEVENT
CLASS:PUBLIC
URL:http://www.rbb-online.de/content/rbb/rbb/stilbruch/archiv/20140313_2215/die-frau-des-polizisten.html
DTEND:20140313T224500
DTSTART:20140313T221500
UID:/content/rbb/rbb/stilbruch/archiv/20140313_2215/die-frau-des-polizisten
DTSTAMP:20140405T031839
DESCRIPTION:Zärtlichkeit und Gewalt, Liebe und Hass können sehr nah beieinander liegen. Das zeigt auch der Film "Die Frau des Polizisten". Lange hat Regisseur Philip Gröning zu diesem Thema recherchiert – herausgekommen ist jetzt sein zutiefst verstörender Film, der von dem Abgrund hinter der Fassade einer glücklichen Familie erzählt.  \n
SUMMARY:"Die Frau des Polizisten"
END:VEVENT
END:VCALENDAR
