BEGIN:VCALENDAR
X-WR-TIMEZONE:Europe/Berlin
X-WR-CALNAME:rbb-Kalender
VERSION:2.0
METHOD:PUBLISH
CALSCALE:GREGORIAN
PRODID:rbb-CMS DAY
BEGIN:VEVENT
LOCATION:Das Kulturmagazin
CLASS:PUBLIC
URL:http://www.rbb-online.de/content/rbb/rbb/stilbruch/archiv/20140320_2215.html
DTEND:20140320T224500
DTSTART:20140320T221500
UID:/content/rbb/rbb/stilbruch/archiv/20140320_2215
DTSTAMP:20140405T032135
DESCRIPTION:Das russische Berlin von Vera Lourié +++ Jördis Triebel in "Westen" +++ Farbe für die Republik +++ Edgar Rai: "Die Gottespartitur" +++ Kulturtipps mit Elaiza +++ Christiane Karg +++ Matthias Koeppel\n\n\n
SUMMARY:Stilbruch vom 20.03.2014 
END:VEVENT
END:VCALENDAR
