BEGIN:VCALENDAR
X-WR-TIMEZONE:Europe/Berlin
X-WR-CALNAME:rbb-Kalender
VERSION:2.0
METHOD:PUBLISH
CALSCALE:GREGORIAN
PRODID:rbb-CMS DAY
BEGIN:VEVENT
CLASS:PUBLIC
URL:http://www.rbb-online.de/content/rbb/rbb/stilbruch/archiv/20140320_2215/edgar-rai-buch-die-gottespartitur.html
DTEND:20140320T224500
DTSTART:20140320T221500
UID:/content/rbb/rbb/stilbruch/archiv/20140320_2215/edgar-rai-buch-die-gottespartitur
DTSTAMP:20140405T032046
DESCRIPTION:Seinen ersten Roman schrieb der Berliner Schriftsteller Edgar Rai nur für die Schublade. Fünf Jahre lag er da rum, bis er Edgar Rai bei einem Umzug wieder in die Hände fiel und er ihn an einen Verlag schickte – die ihn tatsächlich druckten und ihn fragten, ob er nicht noch einen schreiben könnte. Mittlerweile hat er 15 Bücher geschrieben, jetzt erscheint sein neues Buch "Die Gottespartitur".\n
SUMMARY:Edgar Rai: "Die Gottespartitur"
END:VEVENT
END:VCALENDAR
