BEGIN:VCALENDAR
X-WR-TIMEZONE:Europe/Berlin
X-WR-CALNAME:rbb-Kalender
VERSION:2.0
METHOD:PUBLISH
CALSCALE:GREGORIAN
PRODID:rbb-CMS DAY
BEGIN:VEVENT
CLASS:PUBLIC
URL:http://www.rbb-online.de/content/rbb/rbb/stilbruch/archiv/20140320_2215/farbe-fuer-die-republik-ausstellung-dhm-berlin.html
DTEND:20140320T224500
DTSTART:20140320T221500
UID:/content/rbb/rbb/stilbruch/archiv/20140320_2215/farbe-fuer-die-republik-ausstellung-dhm-berlin
DTSTAMP:20140405T032452
DESCRIPTION:Eine neue Foto-Ausstellung im Deutschen Historischen Museum erzählt vom Leben in der DDR - aber nicht vom wirklichen Alltag, sondern von einer auf Hochglanz gebürsteten, farbenfrohen DDR. Viele der Bilder stammen von Martin Schmidt. Seit den 50er Jahren fotografierte er VEBs, LPGs, Kitas und Altersheime - und inszenierte die DDR als modernen Staat. Eine Inszenierung, zu der Martin Schmidt noch heute steht.\n
SUMMARY:Farbe für die Republik
END:VEVENT
END:VCALENDAR
