BEGIN:VCALENDAR
X-WR-TIMEZONE:Europe/Berlin
X-WR-CALNAME:rbb-Kalender
VERSION:2.0
METHOD:PUBLISH
CALSCALE:GREGORIAN
PRODID:rbb-CMS DAY
BEGIN:VEVENT
CLASS:PUBLIC
URL:http://www.rbb-online.de/content/rbb/rbb/stilbruch/archiv/20140320_2215/joerdis-triebel-westen-film.html
DTEND:20140320T224500
DTSTART:20140320T221500
UID:/content/rbb/rbb/stilbruch/archiv/20140320_2215/joerdis-triebel-westen-film
DTSTAMP:20140405T031747
DESCRIPTION:Für viele Menschen in der DDR war der "Westen" eine Verheißung auf ein besseres Leben. Vier Millionen Menschen verließen die DDR Richtung Bundesrepublik in der Hoffnung auf Freiheit - und landeten erst mal in Notaufnahmelagern wie in Marienfelde. Dort spielt der vom rbb koproduzierte Kinofilm "Westen". In der Hauptrolle: die Berliner Schauspielerin Jördis Triebel.\n
SUMMARY:Jördis Triebel in "Westen"
END:VEVENT
END:VCALENDAR
