BEGIN:VCALENDAR
X-WR-TIMEZONE:Europe/Berlin
X-WR-CALNAME:rbb-Kalender
VERSION:2.0
METHOD:PUBLISH
CALSCALE:GREGORIAN
PRODID:rbb-CMS DAY
BEGIN:VEVENT
CLASS:PUBLIC
URL:http://www.rbb-online.de/content/rbb/rbb/stilbruch/archiv/20140320_2215/vera-lourie-buch-briefe-an-dich-erinnerungen-russische-berlin.html
DTEND:20140320T224500
DTSTART:20140320T221500
UID:/content/rbb/rbb/stilbruch/archiv/20140320_2215/vera-lourie-buch-briefe-an-dich-erinnerungen-russische-berlin
DTSTAMP:20140405T032156
DESCRIPTION:Die meisten in Berlin lebenden Russen wohnen in Charlottenburg - wie zu Beginn der 1920er Jahre, als Charlottenburg auch "Charlottengrad" genannt wurde und sich hier die russische Bohème versammelte. Mittendrin die junge, gerade aus St. Petersburg geflüchtete Dichterin Vera Lourié. Jetzt erscheinen ihre Erinnerungen als Buch. (Das Video zum Beitrag liegt aus lizenzrechtlichen Gründen nicht vor)\n\n\n
SUMMARY:Das russische Berlin von Vera Lourié
END:VEVENT
END:VCALENDAR
