BEGIN:VCALENDAR
X-WR-TIMEZONE:Europe/Berlin
X-WR-CALNAME:rbb-Kalender
VERSION:2.0
METHOD:PUBLISH
CALSCALE:GREGORIAN
PRODID:rbb-CMS DAY
BEGIN:VEVENT
LOCATION:Das Kulturmagazin
CLASS:PUBLIC
URL:http://www.rbb-online.de/content/rbb/rbb/stilbruch/archiv/20140327_2215.html
DTEND:20140327T224500
DTSTART:20140327T221500
UID:/content/rbb/rbb/stilbruch/archiv/20140327_2215
DTSTAMP:20140405T032627
DESCRIPTION:Hamed Abdel-Samad: "Der islamische Faschismus" +++  Kurt am Wittenbergplatz +++ Schnee von gestern +++  Barbara Brauda: "Lust auf Leben" +++ Kulturtipps mit Falko Hennig +++ The Incredible Herrengedeck +++ Remix-Wettbewerb des Deutschen Symphonie-Orchesters\n
SUMMARY:Stilbruch vom 27.03.2014
END:VEVENT
END:VCALENDAR
