BEGIN:VCALENDAR
X-WR-TIMEZONE:Europe/Berlin
X-WR-CALNAME:rbb-Kalender
VERSION:2.0
METHOD:PUBLISH
CALSCALE:GREGORIAN
PRODID:rbb-CMS DAY
BEGIN:VEVENT
CLASS:PUBLIC
URL:http://www.rbb-online.de/content/rbb/rbb/stilbruch/archiv/20140327_2215/barbara-brauda-lust-auf-leben-buch.html
DTEND:20140327T224500
DTSTART:20140327T221500
UID:/content/rbb/rbb/stilbruch/archiv/20140327_2215/barbara-brauda-lust-auf-leben-buch
DTSTAMP:20140405T031755
DESCRIPTION:Alt werden ist nichts für Feiglinge - das hat schon Hollywood-Diva Mae West gewusst. Aber jetzt gibt es ein Buch, das Lust aufs Älterwerden machen will. Es portraitiert lauter schöne, starke Frauen, die über 60 sind und mitten im Leben und zu sich selbst stehen.\n
SUMMARY:Barbara Brauda: "Lust auf Leben"
END:VEVENT
END:VCALENDAR
