BEGIN:VCALENDAR
X-WR-TIMEZONE:Europe/Berlin
X-WR-CALNAME:rbb-Kalender
VERSION:2.0
METHOD:PUBLISH
CALSCALE:GREGORIAN
PRODID:rbb-CMS DAY
BEGIN:VEVENT
CLASS:PUBLIC
URL:http://www.rbb-online.de/content/rbb/rbb/stilbruch/archiv/20140327_2215/casual-concerts-berliner-philharmonie.html
DTEND:20140327T224500
DTSTART:20140327T221500
UID:/content/rbb/rbb/stilbruch/archiv/20140327_2215/casual-concerts-berliner-philharmonie
DTSTAMP:20140405T031949
DESCRIPTION:Antonin Dvořáks Neunte Symphonie "Aus der neuen Welt" passt durchaus auf die Tanzfläche eines Berliner Clubs - zu erleben beim Remix-Wettbewerb "Into A New World" des Deutschen Symphonie-Orchesters. Den ersten Preis dafür hat der in Berlin lebende Franzose Julian Mannarini gewonnen, der dafür bei den Casual Concerts in der Berliner Philharmonie ausgezeichnet wird.\n
SUMMARY:Remix-Wettbewerb des Deutschen Symphonie-Orchesters
END:VEVENT
END:VCALENDAR
