BEGIN:VCALENDAR
X-WR-TIMEZONE:Europe/Berlin
X-WR-CALNAME:rbb-Kalender
VERSION:2.0
METHOD:PUBLISH
CALSCALE:GREGORIAN
PRODID:rbb-CMS DAY
BEGIN:VEVENT
CLASS:PUBLIC
URL:http://www.rbb-online.de/content/rbb/rbb/stilbruch/archiv/20140327_2215/the-incredible-herrengedeck.html
DTEND:20140327T224500
DTSTART:20140327T221500
UID:/content/rbb/rbb/stilbruch/archiv/20140327_2215/the-incredible-herrengedeck
DTSTAMP:20140405T032229
DESCRIPTION:Beim "Incredible Herrengedeck" handelt es sich nicht um Bier mit Schnaps, sondern um eine Berliner Chanson-Punk Band - drei Herren, die sich bevorzugt an den Ausschankstätten alkoholischer Erfrischungsgetränke aufhalten. Nichtsdestotrotz  legt das Trio Anfang April sein neues Album vor.\n
SUMMARY:The Incredible Herrengedeck
END:VEVENT
END:VCALENDAR
