BEGIN:VCALENDAR
X-WR-TIMEZONE:Europe/Berlin
X-WR-CALNAME:rbb-Kalender
VERSION:2.0
METHOD:PUBLISH
CALSCALE:GREGORIAN
PRODID:rbb-CMS DAY
BEGIN:VEVENT
CLASS:PUBLIC
URL:http://www.rbb-online.de/content/rbb/rbb/stilbruch/archiv/20140410_2215/ausstellung-nik-nowak-echo-berlinische-galerie.html
DTEND:20140410T224500
DTSTART:20140410T221500
UID:/content/rbb/rbb/stilbruch/archiv/20140410_2215/ausstellung-nik-nowak-echo-berlinische-galerie
DTSTAMP:20140410T232847
DESCRIPTION:Seine Kunst ist eine Herausforderung - weniger für die Augen als vielmehr für die Ohren. Die Grenzen zwischen Kunst und Musik, Krieg und Klang sind bei Nik Nowak fliessend. Der Berliner Soundmaschinen-Ingenieur bekommt in diesem Jahr den GASAG-Kunstpreis und eine Ausstellung in der Berlinischen Galerie.\n
SUMMARY:"Nik Nowak – Echo"
END:VEVENT
END:VCALENDAR
