BEGIN:VCALENDAR
X-WR-TIMEZONE:Europe/Berlin
X-WR-CALNAME:rbb-Kalender
VERSION:2.0
METHOD:PUBLISH
CALSCALE:GREGORIAN
PRODID:rbb-CMS DAY
BEGIN:VEVENT
CLASS:PUBLIC
URL:http://www.rbb-online.de/content/rbb/rbb/stilbruch/archiv/20140410_2215/gesine-cukrowski-renaissance-theater-berlin.html
DTEND:20140410T224500
DTSTART:20140410T221500
UID:/content/rbb/rbb/stilbruch/archiv/20140410_2215/gesine-cukrowski-renaissance-theater-berlin
DTSTAMP:20140410T232825
DESCRIPTION:Die Schauspielerin Gesine Cukrowksi hat vor allem für TV-Produktionen gearbeitet. Jetzt kehrt sie zu den Anfängen ihrer Karriere zurück - auf die Theaterbühne. Im April ist sie in Moritz Rinkes Stück "Wir lieben und wissen nichts" am Renaissance Theater zu sehen - ein Kammerspiel über verkorkste Beziehungen.\n
SUMMARY:Gesine Cukrowksi
END:VEVENT
END:VCALENDAR
