BEGIN:VCALENDAR
X-WR-TIMEZONE:Europe/Berlin
X-WR-CALNAME:rbb-Kalender
VERSION:2.0
METHOD:PUBLISH
CALSCALE:GREGORIAN
PRODID:rbb-CMS DAY
BEGIN:VEVENT
CLASS:PUBLIC
URL:http://www.rbb-online.de/content/rbb/rbb/stilbruch/archiv/Stilbruch_vom_30_05_2013.html
DTEND:20130530T221500
DTSTART:20130530T221500
UID:/content/rbb/rbb/stilbruch/archiv/Stilbruch_vom_30_05_2013
DTSTAMP:20140406T054606
DESCRIPTION:+++ Field Station Berlin +++ Matthias Lilienthal in Beirut +++ "Die ersten Tage von Berlin - Sound der Wende" +++ "Fuck for Forest" +++ Kulturtipps mit Uta Bierbaum +++ John Bock – vor der Biennale in Venedig +++\n
SUMMARY:Stilbruch vom 30.05.2013
END:VEVENT
END:VCALENDAR
