BEGIN:VCALENDAR
X-WR-TIMEZONE:Europe/Berlin
X-WR-CALNAME:rbb-Kalender
VERSION:2.0
METHOD:PUBLISH
CALSCALE:GREGORIAN
PRODID:rbb-CMS DAY
BEGIN:VEVENT
CLASS:PUBLIC
URL:http://www.rbb-online.de/content/rbb/rbb/stilbruch/archiv/Stilbruch_vom_30_05_2013/die_ersten_tage_von.html
DTEND:20130530T221500
DTSTART:20130530T221500
UID:/content/rbb/rbb/stilbruch/archiv/Stilbruch_vom_30_05_2013/die_ersten_tage_von
DTSTAMP:20140407T061947
DESCRIPTION:Kurz nach der Wende: Als in Berlin-Mitte noch nichts saniert und gentrifiziert war, entstand der neue Mythos Berlin. Doch das Mittegefühl der Jahre nach dem Mauerfall ist genauso schnell wieder verschwunden, wie es entstand. Nachlesen kann man es aber jetzt in einem Buch über "Die ersten Tage von Berlin".
SUMMARY:"Die ersten Tage von Berlin - Sound der Wende"
END:VEVENT
END:VCALENDAR
