BEGIN:VCALENDAR
X-WR-TIMEZONE:Europe/Berlin
X-WR-CALNAME:rbb-Kalender
VERSION:2.0
METHOD:PUBLISH
CALSCALE:GREGORIAN
PRODID:rbb-CMS DAY
BEGIN:VEVENT
CLASS:PUBLIC
URL:http://www.rbb-online.de/content/rbb/rbb/stilbruch/archiv/Stilbruch_vom_30_05_2013/field_station_berlin.html
DTEND:20130530T221500
DTSTART:20130530T221500
UID:/content/rbb/rbb/stilbruch/archiv/Stilbruch_vom_30_05_2013/field_station_berlin
DTSTAMP:20140407T061951
DESCRIPTION:Sie ist ein einzigartiges Zeugnis des Kalten Krieges. Am Rande Berlins thront sie über der Stadt und ist dem Verfall preisgegeben. Vier junge Autoren beleuchten nun Geschichte und Architektur der geheimen Abhörstation auf dem Teufelsberg und plädieren für den Erhalt des Gebäudes.\n
SUMMARY:Field Station Berlin
END:VEVENT
END:VCALENDAR
