BEGIN:VCALENDAR
X-WR-TIMEZONE:Europe/Berlin
X-WR-CALNAME:rbb-Kalender
VERSION:2.0
METHOD:PUBLISH
CALSCALE:GREGORIAN
PRODID:rbb-CMS DAY
BEGIN:VEVENT
CLASS:PUBLIC
URL:http://www.rbb-online.de/content/rbb/rbb/stilbruch/archiv/Stilbruch_vom_30_05_2013/fuck_for_forest.html
DTEND:20130530T221500
DTSTART:20130530T221500
UID:/content/rbb/rbb/stilbruch/archiv/Stilbruch_vom_30_05_2013/fuck_for_forest
DTSTAMP:20140407T062006
DESCRIPTION:"Fuck for Forest" ist eine Gruppe von Umweltaktivisten, die genau das machen, was ihr Name verspricht: Vögeln für den Regenwald. Jetzt gibt es einen Dokumentarfilm über dieses exhibitonistische Großstadthippie-Kollektiv, das vor ein paar Jahren seine Kampfzentrale nach Berlin-Friedrichshain verlegt hat.
SUMMARY:"Fuck for Forest"
END:VEVENT
END:VCALENDAR
