BEGIN:VCALENDAR
X-WR-TIMEZONE:Europe/Berlin
X-WR-CALNAME:rbb-Kalender
VERSION:2.0
METHOD:PUBLISH
CALSCALE:GREGORIAN
PRODID:rbb-CMS DAY
BEGIN:VEVENT
CLASS:PUBLIC
URL:http://www.rbb-online.de/content/rbb/rbb/stilbruch/archiv/stilbruch_vom_06_06.html
DTEND:20130606T221500
DTSTART:20130606T221500
UID:/content/rbb/rbb/stilbruch/archiv/stilbruch_vom_06_06
DTSTAMP:20140406T054903
DESCRIPTION:+++ Der Aufstand - 17. Juni 1953 +++ Matthias Lilienthals Projekt "X-Wohnungen" +++ "Heimatabend" in der Komischen Oper Berlin +++ Thomas Henk Henkel: "Schatzsucher" +++ Kulturtipps mit Barbara Schaefer +++ Guaia Guaia +++ "Camera Work Rocks" +++\n\n\n
SUMMARY:Stilbruch vom 06.06.2013
END:VEVENT
END:VCALENDAR
