BEGIN:VCALENDAR
X-WR-TIMEZONE:Europe/Berlin
X-WR-CALNAME:rbb-Kalender
VERSION:2.0
METHOD:PUBLISH
CALSCALE:GREGORIAN
PRODID:rbb-CMS DAY
BEGIN:VEVENT
CLASS:PUBLIC
URL:http://www.rbb-online.de/content/rbb/rbb/stilbruch/archiv/stilbruch_vom_06_06/heimatabend_komische_oper_berlin.html
DTEND:20130606T221500
DTSTART:20130606T221500
UID:/content/rbb/rbb/stilbruch/archiv/stilbruch_vom_06_06/heimatabend_komische_oper_berlin
DTSTAMP:20140407T062449
DESCRIPTION:Kein Musikantenstadl, sondern um Lieder von Menschen, die in Berlin eine neue Heimat gefunden haben - darum geht es beim "Heimatabend" in der Komischen Oper. Mehr als 100 Musiker, 13 Chöre und Bands bringen ihre Musik auf die Bühne - aus Vietnam, Portugal, Kroatien oder Kuba. 
SUMMARY:"Heimatabend" in der Komischen Oper Berlin
END:VEVENT
END:VCALENDAR
