BEGIN:VCALENDAR
X-WR-TIMEZONE:Europe/Berlin
X-WR-CALNAME:rbb-Kalender
VERSION:2.0
METHOD:PUBLISH
CALSCALE:GREGORIAN
PRODID:rbb-CMS DAY
BEGIN:VEVENT
CLASS:PUBLIC
URL:http://www.rbb-online.de/content/rbb/rbb/stilbruch/archiv/stilbruch_vom_06_06/matthias_lilienthal_x_wohnungen.html
DTEND:20130606T221500
DTSTART:20130606T221500
UID:/content/rbb/rbb/stilbruch/archiv/stilbruch_vom_06_06/matthias_lilienthal_x_wohnungen
DTSTAMP:20140407T062518
DESCRIPTION:Nachdem er das Berliner HAU zur wichtigsten freien Theaterbühne Deutschlands gemacht hat, ist Matthias Lilienthal im vergangenen Jahr in den Libanon gezogen, um Kunststudenten zu unterrichten. Mit denen hat er jetzt sein Erfolgsprojekt "X-Wohnungen" inszeniert - in Beirut. 
SUMMARY:Matthias Lilienthals Projekt "X-Wohnungen"
END:VEVENT
END:VCALENDAR
