BEGIN:VCALENDAR
X-WR-TIMEZONE:Europe/Berlin
X-WR-CALNAME:rbb-Kalender
VERSION:2.0
METHOD:PUBLISH
CALSCALE:GREGORIAN
PRODID:rbb-CMS DAY
BEGIN:VEVENT
CLASS:PUBLIC
URL:http://www.rbb-online.de/content/rbb/rbb/stilbruch/archiv/stilbruch_vom_11_04.html
DTEND:20130411T221500
DTSTART:20130411T221500
UID:/content/rbb/rbb/stilbruch/archiv/stilbruch_vom_11_04
DTSTAMP:20140406T054920
DESCRIPTION:+++ Prozess gegen KZ-Aufseher +++ Frederick Lau in "Das Leben ist nichts für Feiglinge" +++ "Ach du dickes B. Eine Berliner Pleitengeschichte." +++ Leslie Clio +++ Kulturtipps mit Aron Lehmann +++ Koreaner in Deutschland +++ Hartmut Dorgerloh über Caravaggios "Der ungläubige Thomas" +++\n
SUMMARY:Stilbruch vom 11.04.2013
END:VEVENT
END:VCALENDAR
