BEGIN:VCALENDAR
X-WR-TIMEZONE:Europe/Berlin
X-WR-CALNAME:rbb-Kalender
VERSION:2.0
METHOD:PUBLISH
CALSCALE:GREGORIAN
PRODID:rbb-CMS DAY
BEGIN:VEVENT
CLASS:PUBLIC
URL:http://www.rbb-online.de/content/rbb/rbb/stilbruch/archiv/stilbruch_vom_11_04/ach_du_dickes_b_cornelia_tomerius.html
DTEND:20130411T221500
DTSTART:20130411T221500
UID:/content/rbb/rbb/stilbruch/archiv/stilbruch_vom_11_04/ach_du_dickes_b_cornelia_tomerius
DTSTAMP:20140407T062628
DESCRIPTION:Der BER-Flughafen ist nicht das einzige Großprojekt, mit dem sich Berlin blamiert hat. Ob Tasmania 1900, gescheiterte Olympia-Pläne oder das Riesenrad am Zoo: Die Berliner haben schon häufig Großprojekte in den märkischen Sand gesetzt. Eine Kulturgeschichte.
SUMMARY:"Ach du dickes B. Eine Berliner Pleitengeschichte."
END:VEVENT
END:VCALENDAR
