BEGIN:VCALENDAR
X-WR-TIMEZONE:Europe/Berlin
X-WR-CALNAME:rbb-Kalender
VERSION:2.0
METHOD:PUBLISH
CALSCALE:GREGORIAN
PRODID:rbb-CMS DAY
BEGIN:VEVENT
CLASS:PUBLIC
URL:http://www.rbb-online.de/content/rbb/rbb/stilbruch/archiv/stilbruch_vom_11_04/das_leben_ist_nichts_fuer_feiglinge.html
DTEND:20130411T221500
DTSTART:20130411T221500
UID:/content/rbb/rbb/stilbruch/archiv/stilbruch_vom_11_04/das_leben_ist_nichts_fuer_feiglinge
DTSTAMP:20140407T062611
DESCRIPTION:Früher wollte er Eishockey-Profi werden - doch später entschied sich Frederick Lau für die Schauspielerei. Für seine Rolle in "Die Welle" erhielt er 2008 den Deutschen Filmpreis in der Kategorie Bester Nebendarsteller. Jetzt ist er wieder im Kino zu sehen.
SUMMARY:Frederick Lau in "Das Leben ist nichts für Feiglinge"
END:VEVENT
END:VCALENDAR
