BEGIN:VCALENDAR
X-WR-TIMEZONE:Europe/Berlin
X-WR-CALNAME:rbb-Kalender
VERSION:2.0
METHOD:PUBLISH
CALSCALE:GREGORIAN
PRODID:rbb-CMS DAY
BEGIN:VEVENT
CLASS:PUBLIC
URL:http://www.rbb-online.de/content/rbb/rbb/stilbruch/archiv/stilbruch_vom_11_04/koreaner_in_deutschland.html
DTEND:20130411T221500
DTSTART:20130411T221500
UID:/content/rbb/rbb/stilbruch/archiv/stilbruch_vom_11_04/koreaner_in_deutschland
DTSTAMP:20140407T062652
DESCRIPTION:In Deutschland leben knapp 25.000 Menschen, die ursprünglich aus Südkorea stammen - viele von ihnen schon seit Jahrzehnten. Sie wurden als Arbeitskräfte gebraucht: als Bergarbeiter oder Krankenschwestern. Mit ihrer Geschichte beschäftigt sich nun eine Ausstellung in Berlin.
SUMMARY:Koreaner in Deutschland
END:VEVENT
END:VCALENDAR
