BEGIN:VCALENDAR
X-WR-TIMEZONE:Europe/Berlin
X-WR-CALNAME:rbb-Kalender
VERSION:2.0
METHOD:PUBLISH
CALSCALE:GREGORIAN
PRODID:rbb-CMS DAY
BEGIN:VEVENT
CLASS:PUBLIC
URL:http://www.rbb-online.de/content/rbb/rbb/stilbruch/archiv/stilbruch_vom_16_05/anish_kapoor.html
DTEND:20130516T221500
DTSTART:20130516T221500
UID:/content/rbb/rbb/stilbruch/archiv/stilbruch_vom_16_05/anish_kapoor
DTSTAMP:20140407T062902
DESCRIPTION:Er arbeitet mit Stein, Stahl, Glas und Wachs. In seinen Objekten, Skulpturen und Installationen verwischen die Grenzen zwischen Malerei und Bildhauerei. Der Martin-Gropius-Bau zeigt Werke von Anish Kapoor, von denen viele extra für die Berliner Ausstellung entstanden sind.\n
SUMMARY:Anish Kapoor
END:VEVENT
END:VCALENDAR
