BEGIN:VCALENDAR
X-WR-TIMEZONE:Europe/Berlin
X-WR-CALNAME:rbb-Kalender
VERSION:2.0
METHOD:PUBLISH
CALSCALE:GREGORIAN
PRODID:rbb-CMS DAY
BEGIN:VEVENT
CLASS:PUBLIC
URL:http://www.rbb-online.de/content/rbb/rbb/stilbruch/archiv/stilbruch_vom_16_05/kulturtipps_mit_felicitas_madl.html
DTEND:20130516T221500
DTSTART:20130516T221500
UID:/content/rbb/rbb/stilbruch/archiv/stilbruch_vom_16_05/kulturtipps_mit_felicitas_madl
DTSTAMP:20140407T062820
DESCRIPTION:Tipp 1: "Play - The Frivolous and the Serious"\n\nTipp 2: "The Whole Earth"\n\nTipp 3: "Witness & À chacun sa marotte"\n
SUMMARY:Kulturtipps mit Felicitas Madl
END:VEVENT
END:VCALENDAR
