BEGIN:VCALENDAR
X-WR-TIMEZONE:Europe/Berlin
X-WR-CALNAME:rbb-Kalender
VERSION:2.0
METHOD:PUBLISH
CALSCALE:GREGORIAN
PRODID:rbb-CMS DAY
BEGIN:VEVENT
CLASS:PUBLIC
URL:http://www.rbb-online.de/content/rbb/rbb/stilbruch/archiv/stilbruch_vom_16_05/on_air_10_jahre_rbb.html
DTEND:20130516T221500
DTSTART:20130516T221500
UID:/content/rbb/rbb/stilbruch/archiv/stilbruch_vom_16_05/on_air_10_jahre_rbb
DTSTAMP:20140407T062908
DESCRIPTION:Der Rundfunk Berlin Brandenburg feiert seinen 10. Geburtstag. Im Foyer des Fernsehzentrums in Berlin ist deshalb die Ausstellung "On Air - 10 Jahre rbb" zu sehen. Der Fotograf Hanns Joosten hat dafür rbb-Moderatoren bei der Arbeit porträtiert.\n
SUMMARY:"On Air" - 10 Jahre rbb
END:VEVENT
END:VCALENDAR
