BEGIN:VCALENDAR
X-WR-TIMEZONE:Europe/Berlin
X-WR-CALNAME:rbb-Kalender
VERSION:2.0
METHOD:PUBLISH
CALSCALE:GREGORIAN
PRODID:rbb-CMS DAY
BEGIN:VEVENT
CLASS:PUBLIC
URL:http://www.rbb-online.de/content/rbb/rbb/stilbruch/archiv/stilbruch_vom_16_05/vierzehn_film.html
DTEND:20130516T221500
DTSTART:20130516T221500
UID:/content/rbb/rbb/stilbruch/archiv/stilbruch_vom_16_05/vierzehn_film
DTSTAMP:20140407T062933
DESCRIPTION:Vier Mädchen im Alter von 14 Jahren - und sie alle sind ungewollt schwanger geworden. Die Regisseurin Cornelia Grünberg begleitet in ihrem neuen Film die jungen Mütter auf ihrem Weg von der Schwangerschaft bis zum Muttersein.\n
SUMMARY:"Vierzehn"
END:VEVENT
END:VCALENDAR
