BEGIN:VCALENDAR
X-WR-TIMEZONE:Europe/Berlin
X-WR-CALNAME:rbb-Kalender
VERSION:2.0
METHOD:PUBLISH
CALSCALE:GREGORIAN
PRODID:rbb-CMS DAY
BEGIN:VEVENT
CLASS:PUBLIC
URL:http://www.rbb-online.de/content/rbb/rbb/stilbruch/archiv/stilbruch_vom_18_04.html
DTEND:20130418T221500
DTSTART:20130418T221500
UID:/content/rbb/rbb/stilbruch/archiv/stilbruch_vom_18_04
DTSTAMP:20140406T054556
DESCRIPTION:+++ Laurenz Demps: "Luftangriffe auf Berlin" +++ "Dragan Wende - West Berlin" +++ Das Haus der Zukunft - Werner Aisslingers Wohnvisionen +++ Ernst Hahn: "Berlin um 1950" +++ Kulturtipps mit Monika Anna Wojtyllo +++ Dagobert +++ Moritz Rinke über Helmut Newtons Fotografie +++\n
SUMMARY:Stilbruch vom 18.04.2013
END:VEVENT
END:VCALENDAR
