BEGIN:VCALENDAR
X-WR-TIMEZONE:Europe/Berlin
X-WR-CALNAME:rbb-Kalender
VERSION:2.0
METHOD:PUBLISH
CALSCALE:GREGORIAN
PRODID:rbb-CMS DAY
BEGIN:VEVENT
CLASS:PUBLIC
URL:http://www.rbb-online.de/content/rbb/rbb/stilbruch/archiv/stilbruch_vom_18_04/dagobert.html
DTEND:20130418T221500
DTSTART:20130418T221500
UID:/content/rbb/rbb/stilbruch/archiv/stilbruch_vom_18_04/dagobert
DTSTAMP:20140407T061850
DESCRIPTION:Angeblich hat der Schweizer Sänger Dagobert die letzten Jahre einsam in den Graubündner Bergen ohne Internet und Telefon verbracht und dort Lieder geschrieben. Das Berliner Hipster-Publikum ist davon hingerissen. Jetzt hat Dagobert sein erstes Album veröffentlicht.\n
SUMMARY:Dagobert
END:VEVENT
END:VCALENDAR
