BEGIN:VCALENDAR
X-WR-TIMEZONE:Europe/Berlin
X-WR-CALNAME:rbb-Kalender
VERSION:2.0
METHOD:PUBLISH
CALSCALE:GREGORIAN
PRODID:rbb-CMS DAY
BEGIN:VEVENT
CLASS:PUBLIC
URL:http://www.rbb-online.de/content/rbb/rbb/stilbruch/archiv/stilbruch_vom_18_04/dragan_wende.html
DTEND:20130418T221500
DTSTART:20130418T221500
UID:/content/rbb/rbb/stilbruch/archiv/stilbruch_vom_18_04/dragan_wende
DTSTAMP:20140407T061910
DESCRIPTION:Das "Achtung Berlin" Festival zeigt Filme, die in Berlin entstanden sind und in Berlin spielen. Wie der Dokumentarfilm über Dragan Wende. Der Jugoslawe war früher ein Held der Halbwelt im Westberliner Nachtleben - bis ihm der Mauerfall die Geschäfte vermasselte.\n
SUMMARY:"Dragan Wende - West Berlin"
END:VEVENT
END:VCALENDAR
