BEGIN:VCALENDAR
X-WR-TIMEZONE:Europe/Berlin
X-WR-CALNAME:rbb-Kalender
VERSION:2.0
METHOD:PUBLISH
CALSCALE:GREGORIAN
PRODID:rbb-CMS DAY
BEGIN:VEVENT
CLASS:PUBLIC
URL:http://www.rbb-online.de/content/rbb/rbb/stilbruch/archiv/stilbruch_vom_18_04/helmut_newton_fotografie.html
DTEND:20130418T221500
DTSTART:20130418T221500
UID:/content/rbb/rbb/stilbruch/archiv/stilbruch_vom_18_04/helmut_newton_fotografie
DTSTAMP:20140407T061825
DESCRIPTION:In dem Buch "Das gefällt mir!" stellen mehr als 100 Prominente ihre liebsten Orte und Kunstwerke in Berlin und Brandenburg vor. Für den Schriftsteller Moritz Rinke sind das die Bilder von Helmut Newton.
SUMMARY:Moritz Rinke über Helmut Newtons Fotografie
END:VEVENT
END:VCALENDAR
