BEGIN:VCALENDAR
X-WR-TIMEZONE:Europe/Berlin
X-WR-CALNAME:rbb-Kalender
VERSION:2.0
METHOD:PUBLISH
CALSCALE:GREGORIAN
PRODID:rbb-CMS DAY
BEGIN:VEVENT
CLASS:PUBLIC
URL:http://www.rbb-online.de/content/rbb/rbb/stilbruch/archiv/stilbruch_vom_23_05/anna_fischer.html
DTEND:20130523T221500
DTSTART:20130523T221500
UID:/content/rbb/rbb/stilbruch/archiv/stilbruch_vom_23_05/anna_fischer
DTSTAMP:20140407T064133
DESCRIPTION:Die Schauspielerin und Sängerin Anna Fischer ist eher eine zarte, zierliche Frau – dafür ist ihre Klappe umso größer. Und sie kann rotzfrech Berlinern, dass es sich gewaschen hat.
SUMMARY:Anna Fischer
END:VEVENT
END:VCALENDAR
