BEGIN:VCALENDAR
X-WR-TIMEZONE:Europe/Berlin
X-WR-CALNAME:rbb-Kalender
VERSION:2.0
METHOD:PUBLISH
CALSCALE:GREGORIAN
PRODID:rbb-CMS DAY
BEGIN:VEVENT
CLASS:PUBLIC
URL:http://www.rbb-online.de/content/rbb/rbb/stilbruch/archiv/stilbruch_vom_25_04/berlin_tanzt_in_claerchens_ballhaus.html
DTEND:20130425T221500
DTSTART:20130425T221500
UID:/content/rbb/rbb/stilbruch/archiv/stilbruch_vom_25_04/berlin_tanzt_in_claerchens_ballhaus
DTSTAMP:20140407T063027
DESCRIPTION:Brad Pitt, Loriot oder Quentin Tarantino – sie alle waren schon einmal in der Auguststrasse in Clärchens Ballhaus. Hier wird seit 100 Jahren getanzt und sich amüsiert. Pünktlich zum Jubiläum erscheint jetzt ein Buch mit vielen Anekdoten über das alte Ballhaus mitten in Berlin.
SUMMARY:"Berlin tanzt in Clärchens Ballhaus"
END:VEVENT
END:VCALENDAR
