BEGIN:VCALENDAR
X-WR-TIMEZONE:Europe/Berlin
X-WR-CALNAME:rbb-Kalender
VERSION:2.0
METHOD:PUBLISH
CALSCALE:GREGORIAN
PRODID:rbb-CMS DAY
BEGIN:VEVENT
CLASS:PUBLIC
URL:http://www.rbb-online.de/content/rbb/rbb/stilbruch/archiv/stilbruch_vom_25_04/gallery_weekend_2013.html
DTEND:20130425T221500
DTSTART:20130425T221500
UID:/content/rbb/rbb/stilbruch/archiv/stilbruch_vom_25_04/gallery_weekend_2013
DTSTAMP:20140407T063014
DESCRIPTION:Die Haubrok-Kunststiftung hat im Berliner Stadtteil Lichtenberg einen 18.000 Quadratmeter großen Gewerbehof erworben und will ihn zu einem neuen Ort für Gegenwartskunst verwandeln - und nimmt am Gallery Weekend 2013 teil.
SUMMARY:Neues Kunstareal in Berlin-Lichtenberg
END:VEVENT
END:VCALENDAR
