BEGIN:VCALENDAR
X-WR-TIMEZONE:Europe/Berlin
X-WR-CALNAME:rbb-Kalender
VERSION:2.0
METHOD:PUBLISH
CALSCALE:GREGORIAN
PRODID:rbb-CMS DAY
BEGIN:VEVENT
CLASS:PUBLIC
URL:http://www.rbb-online.de/content/rbb/rbb/stilbruch/archiv/stilbruch_vom_25_04/kulturtipps_mit_leonie_krippendorff.html
DTEND:20130425T221500
DTSTART:20130425T221500
UID:/content/rbb/rbb/stilbruch/archiv/stilbruch_vom_25_04/kulturtipps_mit_leonie_krippendorff
DTSTAMP:20140407T063003
DESCRIPTION:Tipp 1: Sehsüchte Festival\nTipp 2: Tatwerk Berlin\nTipp 3: Kunstautomat Neukölln
SUMMARY:Kulturtipps mit Leonie Krippendorff
END:VEVENT
END:VCALENDAR
