BEGIN:VCALENDAR
X-WR-TIMEZONE:Europe/Berlin
X-WR-CALNAME:rbb-Kalender
VERSION:2.0
METHOD:PUBLISH
CALSCALE:GREGORIAN
PRODID:rbb-CMS DAY
BEGIN:VEVENT
CLASS:PUBLIC
URL:http://www.rbb-online.de/content/rbb/rbb/stilbruch/archiv/stilbruch_vom_25_04/prinzessinnengruppe.html
DTEND:20130425T221500
DTSTART:20130425T221500
UID:/content/rbb/rbb/stilbruch/archiv/stilbruch_vom_25_04/prinzessinnengruppe
DTSTAMP:20140407T063034
DESCRIPTION:In dem Buch "Das gefällt mir!" stellen mehr als 100 Prominente ihre liebsten Orte und Kunstwerke in Berlin und Brandenburg vor. Für Berlins Kulturstaatssekretär André Schmitz ist das die Prinzessinnengruppe.
SUMMARY:André Schmitz über die Prinzessinnengruppe
END:VEVENT
END:VCALENDAR
