BEGIN:VCALENDAR
X-WR-TIMEZONE:Europe/Berlin
X-WR-CALNAME:rbb-Kalender
VERSION:2.0
METHOD:PUBLISH
CALSCALE:GREGORIAN
PRODID:rbb-CMS DAY
BEGIN:VEVENT
CLASS:PUBLIC
URL:http://www.rbb-online.de/content/rbb/rbb/stilbruch/archiv/stilbruch_vom_25_04/werden_sie_deutscher.html
DTEND:20130425T221500
DTSTART:20130425T221500
UID:/content/rbb/rbb/stilbruch/archiv/stilbruch_vom_25_04/werden_sie_deutscher
DTSTAMP:20140407T062947
DESCRIPTION:Wie wird man ein guter Deutscher? In dem man Müll trennt? Immer pünktlich ist? Die Regisseurin Britt Beyer hat für ihren Dokumentarfilm Teilnehmer eines Integrationskurses in einer Berliner Volkshochschule begleitet und zeigt, wie schwierig es ist, Deutscher zu werden.
SUMMARY:"Werden Sie Deutscher"
END:VEVENT
END:VCALENDAR
