BEGIN:VCALENDAR
X-WR-TIMEZONE:Europe/Berlin
X-WR-CALNAME:rbb-Kalender
VERSION:2.0
METHOD:PUBLISH
CALSCALE:GREGORIAN
PRODID:rbb-CMS DAY
BEGIN:VEVENT
CLASS:PUBLIC
URL:http://www.rbb-online.de/content/rbb/rbb/taeteropferpolizei/archiv/20131013_1900/1.html
DTEND:20131013T192500
DTSTART:20131013T190000
UID:/content/rbb/rbb/taeteropferpolizei/archiv/20131013_1900/1
DTSTAMP:20140406T163108
DESCRIPTION:Der Morgen des 26. Juli, 05.45 Uhr: Berufskraftfahrer René P. ist mit seinem LKW auf dem Weg zur Arbeit. An der Straße Am Falkenberg in Berlin Altglienicke, hat er wie immer seinen Anhänger geparkt. Es ist hell und die Straße wenig befahren. Nach dem Ankuppeln des Anhängers muss er nur noch den Bremsklotz entfernen.\n \n\n
SUMMARY:Schwer verletzt liegen gelassen - Fahrerflucht in Altglienicke
END:VEVENT
END:VCALENDAR
