BEGIN:VCALENDAR
X-WR-TIMEZONE:Europe/Berlin
X-WR-CALNAME:rbb-Kalender
VERSION:2.0
METHOD:PUBLISH
CALSCALE:GREGORIAN
PRODID:rbb-CMS DAY
BEGIN:VEVENT
CLASS:PUBLIC
URL:http://www.rbb-online.de/content/rbb/rbb/taeteropferpolizei/archiv/20131013_1900/6.html
DTEND:20131013T192500
DTSTART:20131013T190000
UID:/content/rbb/rbb/taeteropferpolizei/archiv/20131013_1900/6
DTSTAMP:20140406T163122
DESCRIPTION:Das Juweliergeschäft „Schmuck-Kästchen“ am Mariendorfer Damm 71 in Berlin gibt es unter diesem Namen schon seit vierzig Jahren. Es ist Freitag, der 03. Mai, als zwei Männer das Geschäft betreten. Zunächst glaubt der Geschäftsführer, dass die beiden normale Kunden sind.\n\n
SUMMARY:Raubüberfall am Mariendorfer Damm
END:VEVENT
END:VCALENDAR
